
BEGIN:VCALENDAR
VERSION:2.0
PRODID:swerma-12261
BEGIN:VEVENT
DTSTART:20251119T083000
DTEND:20251119T103000
DTSTAMP:20260423T095119Z
SUMMARY:Nätverksträff & frukost med INCLUS
DESCRIPTION:Nätverksträff & frukost med INCLUS
LOCATION:Clarion Hotel Sign
UID:swerma-12261
END:VEVENT
END:VCALENDAR


